View In:
ArcMap
Google Earth
ArcGIS JavaScript
ArcGIS.com Map
View Footprint In:
Google Earth
Service Description:
Name: NAIP/Wisconsin_2010_1m_NC
Description:
Extent:
XMin: -10346192.6183
YMin: 5226129.1304
XMax: -9656506.5091
YMax: 5963189.0999
Spatial Reference: 102100 (3857)
Pixel Size X: 1.00000015833292
Pixel Size Y: 0.999999958619379
Band Count: 3
Pixel Type: U8
Min Pixel Size: 0
Maximum Pixel Size: 0
Copyright Text:
Service Data Type: esriImageServiceDataTypeProcessed
Min Values: 0, 0, 0
Max Values: 255, 255, 255
Mean Values: 107.891974683124, 117.679766433543, 96.7188447929299
Standard Deviation Values: 40.9291011307329, 36.5908120915061, 30.5711316593401
Object ID Field: OBJECTID
Fields:
- OBJECTID (Type: esriFieldTypeOID, Alias: OBJECTID)
- Shape (Type: esriFieldTypeGeometry, Alias: Shape)
- Name (Type: esriFieldTypeString, Alias: Name)
- Category (Type: esriFieldTypeInteger, Alias: Category)
- Year_ts (Type: esriFieldTypeSmallInteger, Alias: Year_ts)
- ST (Type: esriFieldTypeString, Alias: ST)
- QQNAME (Type: esriFieldTypeString, Alias: QQNAME)
- QQDATE (Type: esriFieldTypeDate, Alias: QQDATE)
- iDate_ts (Type: esriFieldTypeDate, Alias: iDate_ts)
Supported Interfaces:
REST
SOAP
Supported Operations:
Export Image
Query
Identify