View In:
ArcMap
Google Earth
ArcGIS JavaScript
ArcGIS.com Map
View Footprint In:
Google Earth
Service Description:
Name: NAIP/Montana_2011_1m_NC
Description:
Extent:
XMin: -12920612.4812
YMin: 5513341.1218
XMax: -11576622.9693
YMax: 6286204.5587
Spatial Reference: 102100 (3857)
Pixel Size X: 0.999999636827655
Pixel Size Y: 0.99999927141127
Band Count: 3
Pixel Type: U8
Min Pixel Size: 0
Maximum Pixel Size: 0
Copyright Text:
Service Data Type: esriImageServiceDataTypeProcessed
Min Values:
Max Values:
Mean Values:
Standard Deviation Values:
Object ID Field: OBJECTID
Fields:
- OBJECTID (Type: esriFieldTypeOID, Alias: OBJECTID)
- Shape (Type: esriFieldTypeGeometry, Alias: Shape)
- Name (Type: esriFieldTypeString, Alias: Name)
- Category (Type: esriFieldTypeInteger, Alias: Category)
- Year_ts (Type: esriFieldTypeSmallInteger, Alias: Year_ts)
- ST (Type: esriFieldTypeString, Alias: ST)
- QQNAME (Type: esriFieldTypeString, Alias: QQNAME)
- QQDATE (Type: esriFieldTypeDate, Alias: QQDATE)
- iDate_ts (Type: esriFieldTypeDate, Alias: iDate_ts)
Supported Interfaces:
REST
SOAP
Supported Operations:
Export Image
Query
Identify