View In:
ArcMap
Google Earth
ArcGIS JavaScript
ArcGIS.com Map
View Footprint In:
Google Earth
Service Description:
Name: NAIP/Colorado_2011_1m_NC
Description:
Extent:
XMin: -12141398.2277
YMin: 4429785.6458
XMax: -11353854.2277
YMax: 5022220.6458
Spatial Reference: 102100 (3857)
Pixel Size X: 1
Pixel Size Y: 1
Band Count: 3
Pixel Type: U8
Min Pixel Size: 0
Maximum Pixel Size: 0
Copyright Text:
Service Data Type: esriImageServiceDataTypeProcessed
Min Values:
Max Values:
Mean Values:
Standard Deviation Values:
Object ID Field: OBJECTID
Fields:
- OBJECTID (Type: esriFieldTypeOID, Alias: OBJECTID)
- Shape (Type: esriFieldTypeGeometry, Alias: Shape)
- Name (Type: esriFieldTypeString, Alias: Name)
- Category (Type: esriFieldTypeInteger, Alias: Category)
- Year_ts (Type: esriFieldTypeSmallInteger, Alias: Year_ts)
- ST (Type: esriFieldTypeString, Alias: ST)
- QQNAME (Type: esriFieldTypeString, Alias: QQNAME)
- QQDATE (Type: esriFieldTypeDate, Alias: QQDATE)
- iDate_ts (Type: esriFieldTypeDate, Alias: iDate_ts)
Supported Interfaces:
REST
SOAP
Supported Operations:
Export Image
Query
Identify