View In:
ArcMap
Google Earth
ArcGIS JavaScript
ArcGIS.com Map
View Footprint In:
Google Earth
Service Description:
Name: Base_Maps/NA_Color_Shaded_Relief
Description:
Extent:
XMin: -180.002034999999
YMin: -19.6683450000132
XMax: 180.003905000038
YMax: 89.9961049999978
Spatial Reference: 4269
Pixel Size X: 0.00833000000000084
Pixel Size Y: 0.00833000000000084
Band Count: 3
Pixel Type: U8
Min Pixel Size: 0
Maximum Pixel Size: 0
Copyright Text:
Service Data Type: esriImageServiceDataTypeRGB
Min Values:
Max Values:
Mean Values:
Standard Deviation Values:
Object ID Field:
Fields:
Supported Interfaces:
REST
SOAP
Supported Operations:
Export Image
Identify